BEGIN:VCALENDAR
VERSION:2.0
PRODID:-//85.13.148.165//NONSGML kigkonsult.se iCalcreator 2.20//
CALSCALE:GREGORIAN
METHOD:PUBLISH
X-WR-TIMEZONE:Europe/Berlin
BEGIN:VEVENT
UID:event31@schlosskirche-jahnishausen.de
DTSTAMP:20260424T135632Z
CATEGORIES:Veranstaltung
DESCRIPTION:KUNST & KLANG | Improvisation und mehr in der Schlosskirche\nKa
 tegorie: Veranstaltung\nICS-Link: https://schlosskirche-jahnishausen.de/in
 dex.php?option=com_jem&view=event&id=31:kunst-klang-improvisation-und-mehr
 -in-der-schlosskirche\n
DTSTART;TZID=Europe/Berlin:20260426T140000
DTEND;TZID=Europe/Berlin:20260426T170000
LOCATION:Schlosskirche Jahnishausen\,Jahnatalstraße 4\,01587 Jahnishausen
SUMMARY:KUNST & KLANG | Improvisation und mehr in der Schlosskirche
URL:https://schlosskirche-jahnishausen.de/index.php?option=com_jem&view=eve
 nt&id=31:kunst-klang-improvisation-und-mehr-in-der-schlosskirche
END:VEVENT
END:VCALENDAR