BEGIN:VCALENDAR
VERSION:2.0
PRODID:-//85.13.148.165//NONSGML kigkonsult.se iCalcreator 2.20//
CALSCALE:GREGORIAN
METHOD:PUBLISH
X-WR-TIMEZONE:Europe/Berlin
BEGIN:VEVENT
UID:event5@schlosskirche-jahnishausen.de
DTSTAMP:20260420T111944Z
CATEGORIES:Konzert
DESCRIPTION:„CONCORD/DISCORD“- Britain Classics\nKategorie: Konzert\nICS-Li
 nk: https://schlosskirche-jahnishausen.de/index.php?option=com_jem&view=ev
 ent&id=5:concord-discord-britain-classics\n
DTSTART;TZID=Europe/Berlin:20250511T160000
DTEND;TZID=Europe/Berlin:20250511T160000
LOCATION:Schlosskirche Jahnishausen\,Jahnatalstraße 4\,01587 Jahnishausen
SUMMARY:„CONCORD/DISCORD“- Britain Classics
URL:https://schlosskirche-jahnishausen.de/index.php?option=com_jem&view=eve
 nt&id=5:concord-discord-britain-classics
END:VEVENT
END:VCALENDAR